BEGIN:VCALENDAR
VERSION:2.0
PRODID:-//Fairwise - ECPv6.15.20//NONSGML v1.0//EN
CALSCALE:GREGORIAN
METHOD:PUBLISH
X-WR-CALNAME:Fairwise
X-ORIGINAL-URL:https://fairwise.be
X-WR-CALDESC:Evenementen voor Fairwise
REFRESH-INTERVAL;VALUE=DURATION:PT1H
X-Robots-Tag:noindex
X-PUBLISHED-TTL:PT1H
BEGIN:VTIMEZONE
TZID:UTC
BEGIN:STANDARD
TZOFFSETFROM:+0000
TZOFFSETTO:+0000
TZNAME:UTC
DTSTART:20210101T000000
END:STANDARD
END:VTIMEZONE
BEGIN:VEVENT
DTSTART;VALUE=DATE:20220122
DTEND;VALUE=DATE:20220131
DTSTAMP:20260421T223038
CREATED:20200504T081908Z
LAST-MODIFIED:20211025T122436Z
UID:1389-1642809600-1643587199@fairwise.be
SUMMARY:boot Düsseldorf
DESCRIPTION:Als afspiegeling van de internationale markt\, laat ’s werelds grootste watersportbeurs boot met haar aanbod van boten\, jachten en watersport het motto ‘360° watersport beleven’ ieder jaar tot leven komen. boot is met zijn 13 belevings- en themawerelden uniek in haar soort voor de watersportsector en biedt het perfecte kader voor de presentatie van 1.800 exposanten uit 60 landen. \nProductgroepen:\nmotorboten en (super)yachts\, motoren en aanverwante apparatuur\, zeilboten en -jachten\, shipping/yachting apparatuur en accessoires\, duik-equipment en -bestemmingen\, kano’s\, kajak\, roeien\, raft-accessoires en services\, waterskiën\, wakeboarden en kneeboarden\, jetskiën\, surfen\, windsurfen & kitesurfen\, hengelsport\, maritieme producten\, charters en cruises\, house-boats\, jachthavens\, maritieme kunst\, organisaties\, instituten & clubs\, werven & watersportfaciliteiten\, dienstverlenende organisaties. \nBezoekersdoelgroepen:\nvakmensen uit de boten & watersportindustrie\, werven\, architecten en watersportliefhebbers \nBeursfrequentie\nJaarlijks \nVolgende editie\neind januari 2023
URL:https://fairwise.be/beurs/boot-dusseldorf-dusseldorf/
LOCATION:Messe Düsseldorf GmbH\, Messeplatz\, Düsseldorf\, 40474
CATEGORIES:vrijetijd en recreatie
ATTACH;FMTTYPE=image/jpeg:https://fairwise.be/wp-content/uploads/2020/05/Boot3-scaled.jpg
END:VEVENT
END:VCALENDAR